BEGIN:VCALENDAR
VERSION:2.0
PRODID:-//The Spirit Guide - ECPv6.15.20//NONSGML v1.0//EN
CALSCALE:GREGORIAN
METHOD:PUBLISH
X-ORIGINAL-URL:https://thespiritguide.nz
X-WR-CALDESC:Events for The Spirit Guide
REFRESH-INTERVAL;VALUE=DURATION:PT1H
X-Robots-Tag:noindex
X-PUBLISHED-TTL:PT1H
BEGIN:VTIMEZONE
TZID:Pacific/Auckland
BEGIN:STANDARD
TZOFFSETFROM:+1300
TZOFFSETTO:+1200
TZNAME:NZST
DTSTART:20250405T140000
END:STANDARD
BEGIN:DAYLIGHT
TZOFFSETFROM:+1200
TZOFFSETTO:+1300
TZNAME:NZDT
DTSTART:20250927T140000
END:DAYLIGHT
BEGIN:STANDARD
TZOFFSETFROM:+1300
TZOFFSETTO:+1200
TZNAME:NZST
DTSTART:20260404T140000
END:STANDARD
BEGIN:DAYLIGHT
TZOFFSETFROM:+1200
TZOFFSETTO:+1300
TZNAME:NZDT
DTSTART:20260926T140000
END:DAYLIGHT
BEGIN:STANDARD
TZOFFSETFROM:+1300
TZOFFSETTO:+1200
TZNAME:NZST
DTSTART:20270403T140000
END:STANDARD
BEGIN:DAYLIGHT
TZOFFSETFROM:+1200
TZOFFSETTO:+1300
TZNAME:NZDT
DTSTART:20270925T140000
END:DAYLIGHT
END:VTIMEZONE
BEGIN:VEVENT
DTSTART;TZID=Pacific/Auckland:20260416T200000
DTEND;TZID=Pacific/Auckland:20260416T210000
DTSTAMP:20260423T233916
CREATED:20260422T233344Z
LAST-MODIFIED:20260422T233344Z
UID:10001546-1776369600-1776373200@thespiritguide.nz
SUMMARY:How could it be\, if it was safe to be me?
DESCRIPTION:We’ll be diving deep into the roots of this question\, held in the energy of the coming Aries new moon\, and the six planets bearing witness. \nSafety\, to feel welcome to be here now\, exactly as you are. \nTo be vibrant\, vital and potent comes with the courage of radical self-forgiveness. To truly let go of the weight of old wounds. To be ready to stand\, and feel grounded. \nWe’ll work with the innate wisdom of the root chakra\, a breath that empowers it and the guidance of Camael\, the angelic light warrior\, who holds the red ray of power\, courage and self determination. 11:11 \nCome as you are\, the alchemy is awakening.
URL:https://thespiritguide.nz/oneoff-event/how-could-it-be-if-it-was-safe-to-be-me/
ATTACH;FMTTYPE=image/png:https://thespiritguide.nz/wp-content/uploads/2026/04/Image-for-Spirit-Guide.png
ORGANIZER;CN="Linda Curtis":MAILTO:linda@angelicalchemy.life
END:VEVENT
END:VCALENDAR