BEGIN:VCALENDAR
VERSION:2.0
PRODID:-//The Spirit Guide - ECPv6.15.20//NONSGML v1.0//EN
CALSCALE:GREGORIAN
METHOD:PUBLISH
X-WR-CALNAME:The Spirit Guide
X-ORIGINAL-URL:https://thespiritguide.nz
X-WR-CALDESC:Events for The Spirit Guide
REFRESH-INTERVAL;VALUE=DURATION:PT1H
X-Robots-Tag:noindex
X-PUBLISHED-TTL:PT1H
BEGIN:VTIMEZONE
TZID:Pacific/Auckland
BEGIN:STANDARD
TZOFFSETFROM:+1300
TZOFFSETTO:+1200
TZNAME:NZST
DTSTART:20250405T140000
END:STANDARD
BEGIN:DAYLIGHT
TZOFFSETFROM:+1200
TZOFFSETTO:+1300
TZNAME:NZDT
DTSTART:20250927T140000
END:DAYLIGHT
BEGIN:STANDARD
TZOFFSETFROM:+1300
TZOFFSETTO:+1200
TZNAME:NZST
DTSTART:20260404T140000
END:STANDARD
BEGIN:DAYLIGHT
TZOFFSETFROM:+1200
TZOFFSETTO:+1300
TZNAME:NZDT
DTSTART:20260926T140000
END:DAYLIGHT
BEGIN:STANDARD
TZOFFSETFROM:+1300
TZOFFSETTO:+1200
TZNAME:NZST
DTSTART:20270403T140000
END:STANDARD
BEGIN:DAYLIGHT
TZOFFSETFROM:+1200
TZOFFSETTO:+1300
TZNAME:NZDT
DTSTART:20270925T140000
END:DAYLIGHT
END:VTIMEZONE
BEGIN:VEVENT
DTSTART;TZID=Pacific/Auckland:20260329T103000
DTEND;TZID=Pacific/Auckland:20260329T113000
DTSTAMP:20260420T184828
CREATED:20260205T033933Z
LAST-MODIFIED:20260205T033933Z
UID:10000948-1774780200-1774783800@thespiritguide.nz
SUMMARY:Intro to INTUITIVELY reading TAROT and ORACLE cards by LYNNE O’BRIEN ~ MEDIUM ✴️ Tarot reader
DESCRIPTION:INTUITIVELY reading TAROT & ORACLE cards\nby LYNNE O’BRIEN \n✴️MEDIUM\n✴️ TAROT READER \nUnderstand the importance of being guided by intuition when bringing forth Spiritual connections from beyond the Veil.\nLynne will include an easy\, fun\, interactive activity on how to read your own cards\, regardless of experience or skill. \nSunday\, 29th March 2026\n10.30am-11.30am \nTERRACE END Primary School HALL\, 201 Ruahine Street\,\nPALMERSTON NORTH \nKOHA entry appreciated; morning tea provided\nPlus a $2 raffle (3 for $5) \n🔹This is our March intro to a Spiritually themed Modality which runs on the final SUNDAY of every month.\n🔹All other Sundays a Spiritual MEDIUMSHIP demonstration by a Spiritual MEDIUM/ Channeller/ MYSTIC/ Clairvoyant/ Spiritual ARTIST/ Psychic or perhaps Psychometry. \nEveryone welcome to all Events🌹 \nHosted by: ✨ WINGS of LIGHT Spiritual Sanctuary✨\nPrivate Message our FaceBook page WingsofLightSpiritualSanctuary or wolss2018@gmail.com
URL:https://thespiritguide.nz/oneoff-event/intro-to-intuitively-reading-tarot-and-oracle-cards-by-lynne-obrien-medium-%e2%9c%b4%ef%b8%8f-tarot-reader/
LOCATION:TerraceEndPrimarySchoolHALL\, 201 Ruahine Street\, Palmerston North\, 4414\, New Zealand
CATEGORIES:Centre Service
ATTACH;FMTTYPE=image/jpeg:https://thespiritguide.nz/wp-content/uploads/2026/02/TAROT7.jpg
END:VEVENT
END:VCALENDAR