BEGIN:VCALENDAR
VERSION:2.0
PRODID:-//The Spirit Guide - ECPv6.15.20//NONSGML v1.0//EN
CALSCALE:GREGORIAN
METHOD:PUBLISH
X-ORIGINAL-URL:https://thespiritguide.nz
X-WR-CALDESC:Events for The Spirit Guide
REFRESH-INTERVAL;VALUE=DURATION:PT1H
X-Robots-Tag:noindex
X-PUBLISHED-TTL:PT1H
BEGIN:VTIMEZONE
TZID:Pacific/Auckland
BEGIN:STANDARD
TZOFFSETFROM:+1300
TZOFFSETTO:+1200
TZNAME:NZST
DTSTART:20250405T140000
END:STANDARD
BEGIN:DAYLIGHT
TZOFFSETFROM:+1200
TZOFFSETTO:+1300
TZNAME:NZDT
DTSTART:20250927T140000
END:DAYLIGHT
BEGIN:STANDARD
TZOFFSETFROM:+1300
TZOFFSETTO:+1200
TZNAME:NZST
DTSTART:20260404T140000
END:STANDARD
BEGIN:DAYLIGHT
TZOFFSETFROM:+1200
TZOFFSETTO:+1300
TZNAME:NZDT
DTSTART:20260926T140000
END:DAYLIGHT
BEGIN:STANDARD
TZOFFSETFROM:+1300
TZOFFSETTO:+1200
TZNAME:NZST
DTSTART:20270403T140000
END:STANDARD
BEGIN:DAYLIGHT
TZOFFSETFROM:+1200
TZOFFSETTO:+1300
TZNAME:NZDT
DTSTART:20270925T140000
END:DAYLIGHT
END:VTIMEZONE
BEGIN:VEVENT
DTSTART;TZID=Pacific/Auckland:20260607T140000
DTEND;TZID=Pacific/Auckland:20260607T153000
DTSTAMP:20260420T175628
CREATED:20260308T230126Z
LAST-MODIFIED:20260308T230126Z
UID:10001044-1780840800-1780846200@thespiritguide.nz
SUMMARY:Explore Your Unlimited Spiritual Potential
DESCRIPTION:Raise Your Spiritual IQ! \nAwaken to your full spiritual potential with an understanding of how to tap into the God-knowledge within you. \nYour spiritual IQ is unlimited. \nGain a new perspective on your purpose in life. Watch our event video and discover how you can enhance your spirituality – https://youtu.be/cZX4KzaXx18?si=obE33Bvl79NJFwYA \nWhat to expect: \n• Expand your inner awareness of the divine things already in your heart\n• Share your experiences with other like-hearted people!\n• Learn ways to handle challenges from a spiritual perspective\n• Discover techniques to access your divine intuition\n• Get simple spiritual exercises to directly connect with the Life Source\n• Receive a free book and beautifully illustrated Experience Journal to jump start your spiritual adventure! \nTo register contact Peter on 02108894934 or just drop in. We would love to see you! \nVenue: Otaki Memorial Hall Meeting Room
URL:https://thespiritguide.nz/oneoff-event/explore-your-unlimited-spiritual-potential/
LOCATION:Otaki Memorial Hall\, Main Street\, Otaki\, 5512
CATEGORIES:Balance,Consciousness,Discussion Evening,Dreams,Inner Peace,Personal Growth,Spiritual Healing
ATTACH;FMTTYPE=image/jpeg:https://thespiritguide.nz/wp-content/uploads/2026/03/7.EWSF_.jpg
ORGANIZER;CN="Eckankar New Zealand":MAILTO:events@eckankar.nz
END:VEVENT
BEGIN:VEVENT
DTSTART;TZID=Pacific/Auckland:20260618T193000
DTEND;TZID=Pacific/Auckland:20260618T203000
DTSTAMP:20260420T175628
CREATED:20260127T053740Z
LAST-MODIFIED:20260127T053740Z
UID:10000923-1781811000-1781814600@thespiritguide.nz
SUMMARY:HU - Your Key to Spiritual Living
DESCRIPTION:Explore a daily spiritual practice for more joy\, wisdom\, peace \nDiscover how HU\, the Sound behind all sounds\, can \n• fill you with more peace\, relight your dreams\, bring a more loving attitude\,\n• help you in challenging situations\, and\n• attune you to higher awareness \nJoin us for a spiritual discussion based on this free\, short e-booklet\, HU\, Your Key to Spiritual Living which offers inspiration\, stories\, tips and spiritual exercises for exploring HU\, an ancient love song to God. \nWe encourage you to download and explore this booklet beforehand\, and look forward to exchanging insights and experiences related to singing the sacred sound of HU.\nSpiritual conversations are a wonderful way for people to share stories\, ideas\, insights\, and personal experiences about a variety of topics that show how Spirit is working in your life. These discussions are relaxed\, welcoming\, and genuine\, and are for anyone who wants to explore their spiritual life more deeply with others in openhearted conversation. \nFor the Zoom link\n• email events@eckankar.nz\n• or join one of our Meetup groups (see homepage of eckankar.nz) – when you click ATTEND the zoom link will become visible. \nDownload the FREE eBooklet here:\nhttps://www.eckankar.org/wp-content/uploads/2021/12/HU-Your-Key-to-Spir-Living_ebooklet.pdf
URL:https://thespiritguide.nz/oneoff-event/hu-your-key-to-spiritual-living/
LOCATION:ONLINE ZOOM
CATEGORIES:Balance,Consciousness,Discussion Evening,Dreams,Healing,Inner Peace,Personal Growth,Sound
ATTACH;FMTTYPE=image/jpeg:https://thespiritguide.nz/wp-content/uploads/2026/01/HU_eBook_graphic.jpg
ORGANIZER;CN="Eckankar New Zealand":MAILTO:events@eckankar.nz
END:VEVENT
BEGIN:VEVENT
DTSTART;TZID=Pacific/Auckland:20260621T140000
DTEND;TZID=Pacific/Auckland:20260621T153000
DTSTAMP:20260420T175628
CREATED:20260308T230158Z
LAST-MODIFIED:20260308T230158Z
UID:10001045-1782050400-1782055800@thespiritguide.nz
SUMMARY:Relationships and Spiritual Growth
DESCRIPTION:Explore the connecting power of love \nRaise Your Spiritual IQ! \nAwaken to your full spiritual potential with wisdom on relationships. \nYour spiritual IQ is unlimited. \nWatch our event video and discover how you can enhance your spirituality – https://youtu.be/cZX4KzaXx18?si=obE33Bvl79NJFwYA \nWhat to expect:\n• Expand your inner awareness of how past lives affect our relationships today\n• Learn ways to handle challenges from a spiritual perspective\n• Share your experiences with other like-hearted people!\n• Discover techniques to access your divine intuition\n• Get simple spiritual exercises to directly connect with the Life Source\n• Receive a free book and beautifully illustrated Experience Journal to jump start your spiritual adventure! \nVenue: Otaki Memorial Hall Meeting Room \nTo register contact Peter on 02108894934 or just drop in. We would love to see you!
URL:https://thespiritguide.nz/oneoff-event/relationships-and-spiritual-growth/
LOCATION:Otaki Memorial Hall\, Main Street\, Otaki\, 5512
CATEGORIES:Balance,Consciousness,Discussion Evening,Dreams,Inner Peace,Personal Growth
ATTACH;FMTTYPE=image/jpeg:https://thespiritguide.nz/wp-content/uploads/2026/03/8.EWR_-scaled.jpg
ORGANIZER;CN="Eckankar New Zealand":MAILTO:events@eckankar.nz
END:VEVENT
END:VCALENDAR