BEGIN:VCALENDAR
VERSION:2.0
PRODID:-//The Spirit Guide - ECPv6.15.20//NONSGML v1.0//EN
CALSCALE:GREGORIAN
METHOD:PUBLISH
X-ORIGINAL-URL:https://thespiritguide.nz
X-WR-CALDESC:Events for The Spirit Guide
REFRESH-INTERVAL;VALUE=DURATION:PT1H
X-Robots-Tag:noindex
X-PUBLISHED-TTL:PT1H
BEGIN:VTIMEZONE
TZID:Pacific/Auckland
BEGIN:STANDARD
TZOFFSETFROM:+1300
TZOFFSETTO:+1200
TZNAME:NZST
DTSTART:20250405T140000
END:STANDARD
BEGIN:DAYLIGHT
TZOFFSETFROM:+1200
TZOFFSETTO:+1300
TZNAME:NZDT
DTSTART:20250927T140000
END:DAYLIGHT
BEGIN:STANDARD
TZOFFSETFROM:+1300
TZOFFSETTO:+1200
TZNAME:NZST
DTSTART:20260404T140000
END:STANDARD
BEGIN:DAYLIGHT
TZOFFSETFROM:+1200
TZOFFSETTO:+1300
TZNAME:NZDT
DTSTART:20260926T140000
END:DAYLIGHT
BEGIN:STANDARD
TZOFFSETFROM:+1300
TZOFFSETTO:+1200
TZNAME:NZST
DTSTART:20270403T140000
END:STANDARD
BEGIN:DAYLIGHT
TZOFFSETFROM:+1200
TZOFFSETTO:+1300
TZNAME:NZDT
DTSTART:20270925T140000
END:DAYLIGHT
END:VTIMEZONE
BEGIN:VEVENT
DTSTART;TZID=Pacific/Auckland:20260503T130000
DTEND;TZID=Pacific/Auckland:20260503T163000
DTSTAMP:20260422T125049
CREATED:20260401T181548Z
LAST-MODIFIED:20260401T181548Z
UID:10001505-1777813200-1777825800@thespiritguide.nz
SUMMARY:Home Care with Natural Remedies (Introduction)
DESCRIPTION:How to deal with accidents and common ailments at home using natural remedies. \nA 3-hour workshop which covers what to do for: \n​* shock and accidents \n* grazes and wounds \n* bites\, stings and puncture wounds \n* burns\, sunburn and sunstroke \n* sprains and strains \n* headaches \n* hay fever and allergies \n* colds and flu. \n​​\nWe will suggest natural and homeopathic remedies\, like arnica\, colloidal silver\, hypercal tincture\, etc and you will learn how to dilute hypercal tincture and take home your tincture. Afternoon tea and an opportunity to sample and purchase the natural remedies will be provided.
URL:https://thespiritguide.nz/oneoff-event/home-care-with-natural-remedies-introduction/
LOCATION:Ramaroa Centre\, QEII Park\, Mackays Crossing\, Paekakariki\, 5032
CATEGORIES:Healing,Wellness
ATTACH;FMTTYPE=image/jpeg:https://thespiritguide.nz/wp-content/uploads/2026/03/Home-Care-1-low-res.jpg
ORGANIZER;CN="Nikau Remedies":MAILTO:connect@nikauremedies.nz
END:VEVENT
BEGIN:VEVENT
DTSTART;TZID=Pacific/Auckland:20260504T170000
DTEND;TZID=Pacific/Auckland:20260504T210000
DTSTAMP:20260422T125049
CREATED:20260117T072137Z
LAST-MODIFIED:20260126T231537Z
UID:10000600-1777914000-1777928400@thespiritguide.nz
SUMMARY:Universal Spiritual Reiki Healing Sessions
DESCRIPTION:Healing sessions healing sessions for 2026 are on: \nMondays from 5.00pm to 9.00pm \nTuesdays from 9.00am to 1.00pm \nWe are based in the hall located at Koraunui Marae\, 146 Stokes Valley Road\, Stokes Valley \nFor further information\, contact Patrick on 021 029 69692 \nALL WELCOME
URL:https://thespiritguide.nz/oneoff-event/universal-spiritual-reiki-healing-sessions-2/2026-05-04/
LOCATION:Koraunui Marae\, 146 Stokes Valley Road\, Lower Hutt\, 5019\, New Zealand
CATEGORIES:Healing,Readings,Reiki,Spiritual Healing
ATTACH;FMTTYPE=image/png:https://thespiritguide.nz/wp-content/uploads/2026/01/Patricks-healing-768-x-389.png
ORGANIZER;CN="Whiti Turner":MAILTO:whiti.turner@gmail.com
END:VEVENT
BEGIN:VEVENT
DTSTART;TZID=Pacific/Auckland:20260505T090000
DTEND;TZID=Pacific/Auckland:20260505T130000
DTSTAMP:20260422T125049
CREATED:20260117T072131Z
LAST-MODIFIED:20260124T200702Z
UID:10000339-1777971600-1777986000@thespiritguide.nz
SUMMARY:Universal Spiritual Reiki Healing Sessions
DESCRIPTION:Healing sessions healing sessions for 2026 are on: \nMondays from 5.00pm to 9.00pm \nTuesdays from 9.00am to 1.00pm \nWe are based in the hall located at Koraunui Marae\, 146 Stokes Valley Road\, Stokes Valley \nFor further information\, contact Patrick on 021 029 69692
URL:https://thespiritguide.nz/oneoff-event/universal-spiritual-reiki-healing-sessions/2026-05-05/
LOCATION:Koraunui Marae\, 146 Stokes Valley Road\, Lower Hutt\, 5019\, New Zealand
CATEGORIES:Healing,Readings,Reiki,Spiritual Healing
ATTACH;FMTTYPE=image/png:https://thespiritguide.nz/wp-content/uploads/2026/01/Patricks-healing-768-x-389.png
ORGANIZER;CN="Whiti Turner":MAILTO:whiti.turner@gmail.com
END:VEVENT
BEGIN:VEVENT
DTSTART;TZID=Pacific/Auckland:20260511T170000
DTEND;TZID=Pacific/Auckland:20260511T210000
DTSTAMP:20260422T125049
CREATED:20260117T072137Z
LAST-MODIFIED:20260126T231537Z
UID:10000601-1778518800-1778533200@thespiritguide.nz
SUMMARY:Universal Spiritual Reiki Healing Sessions
DESCRIPTION:Healing sessions healing sessions for 2026 are on: \nMondays from 5.00pm to 9.00pm \nTuesdays from 9.00am to 1.00pm \nWe are based in the hall located at Koraunui Marae\, 146 Stokes Valley Road\, Stokes Valley \nFor further information\, contact Patrick on 021 029 69692 \nALL WELCOME
URL:https://thespiritguide.nz/oneoff-event/universal-spiritual-reiki-healing-sessions-2/2026-05-11/
LOCATION:Koraunui Marae\, 146 Stokes Valley Road\, Lower Hutt\, 5019\, New Zealand
CATEGORIES:Healing,Readings,Reiki,Spiritual Healing
ATTACH;FMTTYPE=image/png:https://thespiritguide.nz/wp-content/uploads/2026/01/Patricks-healing-768-x-389.png
ORGANIZER;CN="Whiti Turner":MAILTO:whiti.turner@gmail.com
END:VEVENT
BEGIN:VEVENT
DTSTART;TZID=Pacific/Auckland:20260512T090000
DTEND;TZID=Pacific/Auckland:20260512T130000
DTSTAMP:20260422T125049
CREATED:20260117T072131Z
LAST-MODIFIED:20260124T200702Z
UID:10000340-1778576400-1778590800@thespiritguide.nz
SUMMARY:Universal Spiritual Reiki Healing Sessions
DESCRIPTION:Healing sessions healing sessions for 2026 are on: \nMondays from 5.00pm to 9.00pm \nTuesdays from 9.00am to 1.00pm \nWe are based in the hall located at Koraunui Marae\, 146 Stokes Valley Road\, Stokes Valley \nFor further information\, contact Patrick on 021 029 69692
URL:https://thespiritguide.nz/oneoff-event/universal-spiritual-reiki-healing-sessions/2026-05-12/
LOCATION:Koraunui Marae\, 146 Stokes Valley Road\, Lower Hutt\, 5019\, New Zealand
CATEGORIES:Healing,Readings,Reiki,Spiritual Healing
ATTACH;FMTTYPE=image/png:https://thespiritguide.nz/wp-content/uploads/2026/01/Patricks-healing-768-x-389.png
ORGANIZER;CN="Whiti Turner":MAILTO:whiti.turner@gmail.com
END:VEVENT
BEGIN:VEVENT
DTSTART;TZID=Pacific/Auckland:20260517T093000
DTEND;TZID=Pacific/Auckland:20260517T153000
DTSTAMP:20260422T125049
CREATED:20260407T071706Z
LAST-MODIFIED:20260408T033117Z
UID:10001530-1779010200-1779031800@thespiritguide.nz
SUMMARY:Spirit Communication –  Embodying  Presence
DESCRIPTION:Otherworld communication and embodiment – inviting in the presence of the ancestors and spirit guides\, both felt and witnessed. We will practice connecting and attuning via shamanic journeying and mediumship practice so one’s communication is vital and relevant. The intention is to re-invigorate your shamanic journey practice\, and enliven and reawaken connections with both old and new allies. The workshop also focuses on energy body maintenance and boundary setting while navigating the shamanic and ancestral worlds. \nTo heal one must be embodied\, and so many of us live in our heads\, or above or away from our physical selves. This workshop invites us to be fully present\, grounded in this reality we have chosen to be living in now\, today and tomorrow. Practices to give oneself a healthy sense of gravity before moving onto the mediumship practices. These involve extending and receiving energies and information while remaining grounded\, bringing in information through our psychic senses\, including the fun stuff of psychometry\, i.e. sensing the energies of physical items unknown to the reader. \nAll workshops have a maximum of 8 participants. Contact Pauline Wilson to buy tickets. Early bird $120 if paid 1 month prior to event. Payment is due at the time of booking to secure your place. Places will not be held due to demand. For more information and to register please contact Pauline at www.adamashealth.com
URL:https://thespiritguide.nz/oneoff-event/spirit-communication-embodying-presence/
LOCATION:Lotus Yoga Center\, 91 Ruapehu Street\, Paraparaumu\, 5032
CATEGORIES:Clairvoyance,Dreams,Healing,Mediumship,Mind Body Spirit Practices,Workshop
ATTACH;FMTTYPE=image/png:https://thespiritguide.nz/wp-content/uploads/2026/04/Your-paragraph-text-2.png
END:VEVENT
BEGIN:VEVENT
DTSTART;TZID=Pacific/Auckland:20260518T170000
DTEND;TZID=Pacific/Auckland:20260518T210000
DTSTAMP:20260422T125049
CREATED:20260117T072137Z
LAST-MODIFIED:20260126T231537Z
UID:10000602-1779123600-1779138000@thespiritguide.nz
SUMMARY:Universal Spiritual Reiki Healing Sessions
DESCRIPTION:Healing sessions healing sessions for 2026 are on: \nMondays from 5.00pm to 9.00pm \nTuesdays from 9.00am to 1.00pm \nWe are based in the hall located at Koraunui Marae\, 146 Stokes Valley Road\, Stokes Valley \nFor further information\, contact Patrick on 021 029 69692 \nALL WELCOME
URL:https://thespiritguide.nz/oneoff-event/universal-spiritual-reiki-healing-sessions-2/2026-05-18/
LOCATION:Koraunui Marae\, 146 Stokes Valley Road\, Lower Hutt\, 5019\, New Zealand
CATEGORIES:Healing,Readings,Reiki,Spiritual Healing
ATTACH;FMTTYPE=image/png:https://thespiritguide.nz/wp-content/uploads/2026/01/Patricks-healing-768-x-389.png
ORGANIZER;CN="Whiti Turner":MAILTO:whiti.turner@gmail.com
END:VEVENT
BEGIN:VEVENT
DTSTART;TZID=Pacific/Auckland:20260519T090000
DTEND;TZID=Pacific/Auckland:20260519T130000
DTSTAMP:20260422T125049
CREATED:20260117T072131Z
LAST-MODIFIED:20260124T200702Z
UID:10000341-1779181200-1779195600@thespiritguide.nz
SUMMARY:Universal Spiritual Reiki Healing Sessions
DESCRIPTION:Healing sessions healing sessions for 2026 are on: \nMondays from 5.00pm to 9.00pm \nTuesdays from 9.00am to 1.00pm \nWe are based in the hall located at Koraunui Marae\, 146 Stokes Valley Road\, Stokes Valley \nFor further information\, contact Patrick on 021 029 69692
URL:https://thespiritguide.nz/oneoff-event/universal-spiritual-reiki-healing-sessions/2026-05-19/
LOCATION:Koraunui Marae\, 146 Stokes Valley Road\, Lower Hutt\, 5019\, New Zealand
CATEGORIES:Healing,Readings,Reiki,Spiritual Healing
ATTACH;FMTTYPE=image/png:https://thespiritguide.nz/wp-content/uploads/2026/01/Patricks-healing-768-x-389.png
ORGANIZER;CN="Whiti Turner":MAILTO:whiti.turner@gmail.com
END:VEVENT
BEGIN:VEVENT
DTSTART;TZID=Pacific/Auckland:20260524T100000
DTEND;TZID=Pacific/Auckland:20260524T150000
DTSTAMP:20260422T125049
CREATED:20260327T172802Z
LAST-MODIFIED:20260327T172802Z
UID:10001510-1779616800-1779634800@thespiritguide.nz
SUMMARY:Kapiti Wellbeing Fair
DESCRIPTION:Over 20 stalls and free talks on wellness subjects. Food and drinks available. \nTimetable of talks and list of stallholders will be available on our website closer to the date. \nFree entry\, all welcome. \n“A fantastic opportunity to meet a range of local practitioners and access services on the day.”
URL:https://thespiritguide.nz/oneoff-event/kapiti-wellbeing-fair/
LOCATION:St Peters Village Hall\, Beach Road\, Paekakariki\, Paraparaumu\, 5034
CATEGORIES:Fair,Healing,Wellness
ATTACH;FMTTYPE=image/jpeg:https://thespiritguide.nz/wp-content/uploads/2026/03/Kapiti-Wellbeing-Fair-2024_A5-Flyer_Final-cropped.jpg
ORGANIZER;CN="Nikau Remedies":MAILTO:connect@nikauremedies.nz
END:VEVENT
BEGIN:VEVENT
DTSTART;TZID=Pacific/Auckland:20260525T170000
DTEND;TZID=Pacific/Auckland:20260525T210000
DTSTAMP:20260422T125049
CREATED:20260117T072137Z
LAST-MODIFIED:20260126T231537Z
UID:10000603-1779728400-1779742800@thespiritguide.nz
SUMMARY:Universal Spiritual Reiki Healing Sessions
DESCRIPTION:Healing sessions healing sessions for 2026 are on: \nMondays from 5.00pm to 9.00pm \nTuesdays from 9.00am to 1.00pm \nWe are based in the hall located at Koraunui Marae\, 146 Stokes Valley Road\, Stokes Valley \nFor further information\, contact Patrick on 021 029 69692 \nALL WELCOME
URL:https://thespiritguide.nz/oneoff-event/universal-spiritual-reiki-healing-sessions-2/2026-05-25/
LOCATION:Koraunui Marae\, 146 Stokes Valley Road\, Lower Hutt\, 5019\, New Zealand
CATEGORIES:Healing,Readings,Reiki,Spiritual Healing
ATTACH;FMTTYPE=image/png:https://thespiritguide.nz/wp-content/uploads/2026/01/Patricks-healing-768-x-389.png
ORGANIZER;CN="Whiti Turner":MAILTO:whiti.turner@gmail.com
END:VEVENT
BEGIN:VEVENT
DTSTART;TZID=Pacific/Auckland:20260526T090000
DTEND;TZID=Pacific/Auckland:20260526T130000
DTSTAMP:20260422T125049
CREATED:20260117T072131Z
LAST-MODIFIED:20260124T200702Z
UID:10000342-1779786000-1779800400@thespiritguide.nz
SUMMARY:Universal Spiritual Reiki Healing Sessions
DESCRIPTION:Healing sessions healing sessions for 2026 are on: \nMondays from 5.00pm to 9.00pm \nTuesdays from 9.00am to 1.00pm \nWe are based in the hall located at Koraunui Marae\, 146 Stokes Valley Road\, Stokes Valley \nFor further information\, contact Patrick on 021 029 69692
URL:https://thespiritguide.nz/oneoff-event/universal-spiritual-reiki-healing-sessions/2026-05-26/
LOCATION:Koraunui Marae\, 146 Stokes Valley Road\, Lower Hutt\, 5019\, New Zealand
CATEGORIES:Healing,Readings,Reiki,Spiritual Healing
ATTACH;FMTTYPE=image/png:https://thespiritguide.nz/wp-content/uploads/2026/01/Patricks-healing-768-x-389.png
ORGANIZER;CN="Whiti Turner":MAILTO:whiti.turner@gmail.com
END:VEVENT
BEGIN:VEVENT
DTSTART;TZID=Pacific/Auckland:20260527T190000
DTEND;TZID=Pacific/Auckland:20260527T210000
DTSTAMP:20260422T125049
CREATED:20260227T201523Z
LAST-MODIFIED:20260227T201523Z
UID:10000978-1779908400-1779915600@thespiritguide.nz
SUMMARY:Healing/Reiki Share - Monthly in Lower Hutt
DESCRIPTION:LOWER HUTT\nHealing Share – Fourth Wednesday of the month 7-9pm $20\nLed by Tania Smith – Angelic Reiki Master Teacher/Pleiadian Lightwork Practitioner & Teacher\nIn this supportive and harmonious healing space we welcome all Reiki and Energy Healing lineages to join us for this monthly healing circle — a beautiful opportunity to connect\, share\, and receive.\nWhether you practice regularly or are returning to it after some time away\, you’re invited to co-create with us\, sharing your gifts and uniqueness.\nBeginning with a short grounding meditation and intention-setting\, we then intuitively flow the healing so that everyone gives and receives.\nTime for sharing and discussion in between and we close the circle feeling grounded and connected.\nFor more information or to confirm your attendance contact Tania on 0210306507 or info.essentialwellbeing@yahoo.com
URL:https://thespiritguide.nz/oneoff-event/healing-reiki-share-monthly-in-lower-hutt/2026-05-27/
LOCATION:The Sanctuary\, 88 Richmond Street\, Petone\, Lower Hutt\, 5011\, New Zealand
CATEGORIES:Energy Healing,Healing,Reiki,Spiritual Healing,Wellness
ATTACH;FMTTYPE=image/jpeg:https://thespiritguide.nz/wp-content/uploads/2026/02/Healing-hands-2.jpg
ORGANIZER;CN="TaniaSmith":MAILTO:info.essentialwellbeing@yahoo.com
END:VEVENT
END:VCALENDAR