BEGIN:VCALENDAR
VERSION:2.0
PRODID:-//The Spirit Guide - ECPv6.15.20//NONSGML v1.0//EN
CALSCALE:GREGORIAN
METHOD:PUBLISH
X-ORIGINAL-URL:https://thespiritguide.nz
X-WR-CALDESC:Events for The Spirit Guide
REFRESH-INTERVAL;VALUE=DURATION:PT1H
X-Robots-Tag:noindex
X-PUBLISHED-TTL:PT1H
BEGIN:VTIMEZONE
TZID:Pacific/Auckland
BEGIN:STANDARD
TZOFFSETFROM:+1300
TZOFFSETTO:+1200
TZNAME:NZST
DTSTART:20250405T140000
END:STANDARD
BEGIN:DAYLIGHT
TZOFFSETFROM:+1200
TZOFFSETTO:+1300
TZNAME:NZDT
DTSTART:20250927T140000
END:DAYLIGHT
BEGIN:STANDARD
TZOFFSETFROM:+1300
TZOFFSETTO:+1200
TZNAME:NZST
DTSTART:20260404T140000
END:STANDARD
BEGIN:DAYLIGHT
TZOFFSETFROM:+1200
TZOFFSETTO:+1300
TZNAME:NZDT
DTSTART:20260926T140000
END:DAYLIGHT
BEGIN:STANDARD
TZOFFSETFROM:+1300
TZOFFSETTO:+1200
TZNAME:NZST
DTSTART:20270403T140000
END:STANDARD
BEGIN:DAYLIGHT
TZOFFSETFROM:+1200
TZOFFSETTO:+1300
TZNAME:NZDT
DTSTART:20270925T140000
END:DAYLIGHT
END:VTIMEZONE
BEGIN:VEVENT
DTSTART;TZID=Pacific/Auckland:20260404T093000
DTEND;TZID=Pacific/Auckland:20260404T120000
DTSTAMP:20260421T224842
CREATED:20260403T042508Z
LAST-MODIFIED:20260403T042508Z
UID:10001516-1775295000-1775304000@thespiritguide.nz
SUMMARY:Spiritual Healing - Upper Hutt
DESCRIPTION:Personal Spiritual Healing / with or without Tibetan bowl healing\nHappy Easter. If you are around Upper Hutt this long weekend\, consider taking some time out for yourself to rebalance – or bring the kids along to share in the bliss. On Saturdays at the Oasis Centre you can get a dedicated one-on-one healing session with a Spiritual Healer (or two). The Oasis Centre is open this Easter Saturday 9:30am-midday\, at King Lion Hall (12 King Street\, Upper Hutt). A Spiritual Healing session only takes as long as you need or have time to spare. Most people allow 20-30 minutes\, and it leaves you feeling so balanced\, blissful and relaxed. Stay for a cuppa\, biscuit and chat if you have time. Koha only. Check it out. More details can be found at:\nhttps://www.facebook.com/oasiscentrenz/\nIf on-road parking is tight\, try the big carpark just further down King St\, off Andrews Lane (beside Upper Hutt Cars and opposite Gee & Hickton.)
URL:https://thespiritguide.nz/oneoff-event/spiritual-healing-upper-hutt/
LOCATION:King Lion Hall\, 12 King Street\, Upper Hutt\, 5018
CATEGORIES:Healing
ATTACH;FMTTYPE=image/jpeg:https://thespiritguide.nz/wp-content/uploads/2026/04/Spiritual-Healing-3-scaled.jpg
END:VEVENT
END:VCALENDAR