BEGIN:VCALENDAR
VERSION:2.0
PRODID:-//The Spirit Guide - ECPv6.15.20//NONSGML v1.0//EN
CALSCALE:GREGORIAN
METHOD:PUBLISH
X-ORIGINAL-URL:https://thespiritguide.nz
X-WR-CALDESC:Events for The Spirit Guide
REFRESH-INTERVAL;VALUE=DURATION:PT1H
X-Robots-Tag:noindex
X-PUBLISHED-TTL:PT1H
BEGIN:VTIMEZONE
TZID:Pacific/Auckland
BEGIN:STANDARD
TZOFFSETFROM:+1300
TZOFFSETTO:+1200
TZNAME:NZST
DTSTART:20250405T140000
END:STANDARD
BEGIN:DAYLIGHT
TZOFFSETFROM:+1200
TZOFFSETTO:+1300
TZNAME:NZDT
DTSTART:20250927T140000
END:DAYLIGHT
BEGIN:STANDARD
TZOFFSETFROM:+1300
TZOFFSETTO:+1200
TZNAME:NZST
DTSTART:20260404T140000
END:STANDARD
BEGIN:DAYLIGHT
TZOFFSETFROM:+1200
TZOFFSETTO:+1300
TZNAME:NZDT
DTSTART:20260926T140000
END:DAYLIGHT
BEGIN:STANDARD
TZOFFSETFROM:+1300
TZOFFSETTO:+1200
TZNAME:NZST
DTSTART:20270403T140000
END:STANDARD
BEGIN:DAYLIGHT
TZOFFSETFROM:+1200
TZOFFSETTO:+1300
TZNAME:NZDT
DTSTART:20270925T140000
END:DAYLIGHT
END:VTIMEZONE
BEGIN:VEVENT
DTSTART;TZID=Pacific/Auckland:20260427T170000
DTEND;TZID=Pacific/Auckland:20260427T210000
DTSTAMP:20260420T102434
CREATED:20260117T072137Z
LAST-MODIFIED:20260126T231537Z
UID:10000599-1777309200-1777323600@thespiritguide.nz
SUMMARY:Universal Spiritual Reiki Healing Sessions
DESCRIPTION:Healing sessions healing sessions for 2026 are on: \nMondays from 5.00pm to 9.00pm \nTuesdays from 9.00am to 1.00pm \nWe are based in the hall located at Koraunui Marae\, 146 Stokes Valley Road\, Stokes Valley \nFor further information\, contact Patrick on 021 029 69692 \nALL WELCOME
URL:https://thespiritguide.nz/oneoff-event/universal-spiritual-reiki-healing-sessions-2/2026-04-27/
LOCATION:Koraunui Marae\, 146 Stokes Valley Road\, Lower Hutt\, 5019\, New Zealand
CATEGORIES:Healing,Readings,Reiki,Spiritual Healing
ATTACH;FMTTYPE=image/png:https://thespiritguide.nz/wp-content/uploads/2026/01/Patricks-healing-768-x-389.png
ORGANIZER;CN="Whiti Turner":MAILTO:whiti.turner@gmail.com
END:VEVENT
BEGIN:VEVENT
DTSTART;TZID=Pacific/Auckland:20260428T090000
DTEND;TZID=Pacific/Auckland:20260428T130000
DTSTAMP:20260420T102434
CREATED:20260117T072131Z
LAST-MODIFIED:20260124T200702Z
UID:10000338-1777366800-1777381200@thespiritguide.nz
SUMMARY:Universal Spiritual Reiki Healing Sessions
DESCRIPTION:Healing sessions healing sessions for 2026 are on: \nMondays from 5.00pm to 9.00pm \nTuesdays from 9.00am to 1.00pm \nWe are based in the hall located at Koraunui Marae\, 146 Stokes Valley Road\, Stokes Valley \nFor further information\, contact Patrick on 021 029 69692
URL:https://thespiritguide.nz/oneoff-event/universal-spiritual-reiki-healing-sessions/2026-04-28/
LOCATION:Koraunui Marae\, 146 Stokes Valley Road\, Lower Hutt\, 5019\, New Zealand
CATEGORIES:Healing,Readings,Reiki,Spiritual Healing
ATTACH;FMTTYPE=image/png:https://thespiritguide.nz/wp-content/uploads/2026/01/Patricks-healing-768-x-389.png
ORGANIZER;CN="Whiti Turner":MAILTO:whiti.turner@gmail.com
END:VEVENT
BEGIN:VEVENT
DTSTART;TZID=Pacific/Auckland:20260503T130000
DTEND;TZID=Pacific/Auckland:20260503T163000
DTSTAMP:20260420T102434
CREATED:20260401T181548Z
LAST-MODIFIED:20260401T181548Z
UID:10001505-1777813200-1777825800@thespiritguide.nz
SUMMARY:Home Care with Natural Remedies (Introduction)
DESCRIPTION:How to deal with accidents and common ailments at home using natural remedies. \nA 3-hour workshop which covers what to do for: \n​* shock and accidents \n* grazes and wounds \n* bites\, stings and puncture wounds \n* burns\, sunburn and sunstroke \n* sprains and strains \n* headaches \n* hay fever and allergies \n* colds and flu. \n​​\nWe will suggest natural and homeopathic remedies\, like arnica\, colloidal silver\, hypercal tincture\, etc and you will learn how to dilute hypercal tincture and take home your tincture. Afternoon tea and an opportunity to sample and purchase the natural remedies will be provided.
URL:https://thespiritguide.nz/oneoff-event/home-care-with-natural-remedies-introduction/
LOCATION:Ramaroa Centre\, QEII Park\, Mackays Crossing\, Paekakariki\, 5032
CATEGORIES:Healing,Wellness
ATTACH;FMTTYPE=image/jpeg:https://thespiritguide.nz/wp-content/uploads/2026/03/Home-Care-1-low-res.jpg
ORGANIZER;CN="Nikau Remedies":MAILTO:connect@nikauremedies.nz
END:VEVENT
END:VCALENDAR