BEGIN:VCALENDAR
VERSION:2.0
PRODID:-//The Spirit Guide - ECPv6.15.20//NONSGML v1.0//EN
CALSCALE:GREGORIAN
METHOD:PUBLISH
X-ORIGINAL-URL:https://thespiritguide.nz
X-WR-CALDESC:Events for The Spirit Guide
REFRESH-INTERVAL;VALUE=DURATION:PT1H
X-Robots-Tag:noindex
X-PUBLISHED-TTL:PT1H
BEGIN:VTIMEZONE
TZID:Pacific/Auckland
BEGIN:STANDARD
TZOFFSETFROM:+1300
TZOFFSETTO:+1200
TZNAME:NZST
DTSTART:20250405T140000
END:STANDARD
BEGIN:DAYLIGHT
TZOFFSETFROM:+1200
TZOFFSETTO:+1300
TZNAME:NZDT
DTSTART:20250927T140000
END:DAYLIGHT
BEGIN:STANDARD
TZOFFSETFROM:+1300
TZOFFSETTO:+1200
TZNAME:NZST
DTSTART:20260404T140000
END:STANDARD
BEGIN:DAYLIGHT
TZOFFSETFROM:+1200
TZOFFSETTO:+1300
TZNAME:NZDT
DTSTART:20260926T140000
END:DAYLIGHT
BEGIN:STANDARD
TZOFFSETFROM:+1300
TZOFFSETTO:+1200
TZNAME:NZST
DTSTART:20270403T140000
END:STANDARD
BEGIN:DAYLIGHT
TZOFFSETFROM:+1200
TZOFFSETTO:+1300
TZNAME:NZDT
DTSTART:20270925T140000
END:DAYLIGHT
END:VTIMEZONE
BEGIN:VEVENT
DTSTART;TZID=Pacific/Auckland:20260810T170000
DTEND;TZID=Pacific/Auckland:20260810T210000
DTSTAMP:20260421T022709
CREATED:20260117T072137Z
LAST-MODIFIED:20260126T231537Z
UID:10000614-1786381200-1786395600@thespiritguide.nz
SUMMARY:Universal Spiritual Reiki Healing Sessions
DESCRIPTION:Healing sessions healing sessions for 2026 are on: \nMondays from 5.00pm to 9.00pm \nTuesdays from 9.00am to 1.00pm \nWe are based in the hall located at Koraunui Marae\, 146 Stokes Valley Road\, Stokes Valley \nFor further information\, contact Patrick on 021 029 69692 \nALL WELCOME
URL:https://thespiritguide.nz/oneoff-event/universal-spiritual-reiki-healing-sessions-2/2026-08-10/
LOCATION:Koraunui Marae\, 146 Stokes Valley Road\, Lower Hutt\, 5019\, New Zealand
CATEGORIES:Healing,Readings,Reiki,Spiritual Healing
ATTACH;FMTTYPE=image/png:https://thespiritguide.nz/wp-content/uploads/2026/01/Patricks-healing-768-x-389.png
ORGANIZER;CN="Whiti Turner":MAILTO:whiti.turner@gmail.com
END:VEVENT
BEGIN:VEVENT
DTSTART;TZID=Pacific/Auckland:20260811T090000
DTEND;TZID=Pacific/Auckland:20260811T130000
DTSTAMP:20260421T022709
CREATED:20260117T072131Z
LAST-MODIFIED:20260124T200702Z
UID:10000353-1786438800-1786453200@thespiritguide.nz
SUMMARY:Universal Spiritual Reiki Healing Sessions
DESCRIPTION:Healing sessions healing sessions for 2026 are on: \nMondays from 5.00pm to 9.00pm \nTuesdays from 9.00am to 1.00pm \nWe are based in the hall located at Koraunui Marae\, 146 Stokes Valley Road\, Stokes Valley \nFor further information\, contact Patrick on 021 029 69692
URL:https://thespiritguide.nz/oneoff-event/universal-spiritual-reiki-healing-sessions/2026-08-11/
LOCATION:Koraunui Marae\, 146 Stokes Valley Road\, Lower Hutt\, 5019\, New Zealand
CATEGORIES:Healing,Readings,Reiki,Spiritual Healing
ATTACH;FMTTYPE=image/png:https://thespiritguide.nz/wp-content/uploads/2026/01/Patricks-healing-768-x-389.png
ORGANIZER;CN="Whiti Turner":MAILTO:whiti.turner@gmail.com
END:VEVENT
BEGIN:VEVENT
DTSTART;TZID=Pacific/Auckland:20260816T130000
DTEND;TZID=Pacific/Auckland:20260816T163000
DTSTAMP:20260421T022709
CREATED:20260401T181521Z
LAST-MODIFIED:20260401T181521Z
UID:10001509-1786885200-1786897800@thespiritguide.nz
SUMMARY:Home Car with Natural Remedies HC#2
DESCRIPTION:How to deal with ailments at home using natural remedies. \nThis is a 3-hour workshop that outlines what to do for: \nfever \nsore throats \ncoughs \near and eye issues \ntoothache \ndiarrhoea and vomiting \nemotional issues \nsurgery and travel. \n​​\nWe will suggest natural and homeopathic remedies\, like nux vomica\, arnica balm and Echinacea tincture. Afternoon tea and an opportunity to sample and purchase the natural remedies will be provided. This is a follow-up course to the Introduction.
URL:https://thespiritguide.nz/oneoff-event/home-car-with-natural-remedies-hc2/
LOCATION:Ramaroa Centre\, QEII Park\, Mackays Crossing\, Paekakariki\, 5032
CATEGORIES:Healing,Wellness
ATTACH;FMTTYPE=image/jpeg:https://thespiritguide.nz/wp-content/uploads/2026/03/Home-Care-2.jpg
ORGANIZER;CN="Nikau Remedies":MAILTO:connect@nikauremedies.nz
END:VEVENT
END:VCALENDAR