BEGIN:VCALENDAR
VERSION:2.0
PRODID:-//The Spirit Guide - ECPv6.15.20//NONSGML v1.0//EN
CALSCALE:GREGORIAN
METHOD:PUBLISH
X-ORIGINAL-URL:https://thespiritguide.nz
X-WR-CALDESC:Events for The Spirit Guide
REFRESH-INTERVAL;VALUE=DURATION:PT1H
X-Robots-Tag:noindex
X-PUBLISHED-TTL:PT1H
BEGIN:VTIMEZONE
TZID:Pacific/Auckland
BEGIN:STANDARD
TZOFFSETFROM:+1300
TZOFFSETTO:+1200
TZNAME:NZST
DTSTART:20250405T140000
END:STANDARD
BEGIN:DAYLIGHT
TZOFFSETFROM:+1200
TZOFFSETTO:+1300
TZNAME:NZDT
DTSTART:20250927T140000
END:DAYLIGHT
BEGIN:STANDARD
TZOFFSETFROM:+1300
TZOFFSETTO:+1200
TZNAME:NZST
DTSTART:20260404T140000
END:STANDARD
BEGIN:DAYLIGHT
TZOFFSETFROM:+1200
TZOFFSETTO:+1300
TZNAME:NZDT
DTSTART:20260926T140000
END:DAYLIGHT
BEGIN:STANDARD
TZOFFSETFROM:+1300
TZOFFSETTO:+1200
TZNAME:NZST
DTSTART:20270403T140000
END:STANDARD
BEGIN:DAYLIGHT
TZOFFSETFROM:+1200
TZOFFSETTO:+1300
TZNAME:NZDT
DTSTART:20270925T140000
END:DAYLIGHT
END:VTIMEZONE
BEGIN:VEVENT
DTSTART;TZID=Pacific/Auckland:20260401T170000
DTEND;TZID=Pacific/Auckland:20260403T130000
DTSTAMP:20260420T054649
CREATED:20260204T062455Z
LAST-MODIFIED:20260204T062455Z
UID:10000939-1775062800-1775221200@thespiritguide.nz
SUMMARY:FULL MOON\, FULL VOICE RETREAT NZ MAY 2026
DESCRIPTION:BOOK NOW FOR EARLY BIRD PRICES!! LIMITED PLACES!!!\n* Are you looking for a new\, empowered sense of your voice?\n* Do you want to dive deep?\n* Imagine exploring your voice in a mountain River Gorge at the potent time of the Samhain Full Moon\n** You are warmly invited to join this unique THREE DAY Heartsong Healing weekend retreat in a beautiful venue in Otaki Gorge.\nCome and celebrate the powerful energies of Full Voice together with other particpants\, led by an international Voice expert\, Bryony Rogers originally from the UK now living in Kapiti. \nThis nurturing\, inspiring and deeply enjoyable three day retreat is a fabulous opportunity to dive deep into powerful Voice Empowerment\, Singing\, Conscious Sounding\, Song work\, Energy Healing and Visioning – all in peaceful\, beautiful natural surroundings in Otaki Gorge\, within the frame of the Potent Cosmic Samhain energies of connection\, inspiration and alignment.\nAlso included are daily Yoga Sessions\, Yin Yoga and Sound Healing\, Qigong\, Cacao Ceremony\, Full Moon ceremony\, Meditation\, an Extra special Sauna experience and Nature connection. \nThis retreat is open to anyone of any level of confidence and skill with their voice. The work will support those who are not confident with their voice and will also give new skills and tools to more confident singers and speakers. \nEmpower yourself through exploring deeply uplifting and energizing practices which enable you to connect with your authentic voice in an embodied way!\nThe powerful and transformative Voice practices will be held within the context of ritual\, meditation and profound nature connection – including a healing cacao ceremony. All these practices have a positive effect on the physical\, emotional\, mental and spiritual senses and are a great stress-relieving energizer!!\nThere will also be time and space to rest\, journal\, to be in nature in an unstructured way\, and to integrate the powerful energies of the Voice work.\nLook at the retreat website on https://www.songofawakening.com/full-moon-retreat \nAll of this will be taught in a held safely facilitated space by Bryony from Heartsong Healing. Bryony has been working with the Voice and Energy in a dedicated conscious way for 27 years\, after these practices helped her heal from chronic fatigue syndrome in the 1990s. \nBryony says:\n** ‘I have seen enormous positive change in the people I work with. My work has developed immensely over the past four years and I can truly say that it is transformational.’ **\nYou can see many positive testimonials on her Heartsong Healing Facebook and Google reviews page and on her website\n** Thank you\, I loved every minute of it! Your teachings have been life-changing. My voice is becoming more empowered and I’m excited about what my future will bring’ ** Alexandra Xena\nBryony says – ** I can’t wait to gather for a deep sacred time with you in this deeply beautiful location and to share powerful healing and uplifting energy work with you. **\nThis retreat will be held at the quality accommodation of the Waihoanga Retreat Centre\, in Otaki Gorge\, Kapiti.\nThis Retreat is open to women – please make contact to receive the participants pre enrollment questionnaire.\nThis retreat will include high quality food\, comfortable accommodation\, expert training\, nurturing support\, great company and deep heartfelt connection and group healing\, as well as a number of valuable resources. \nHere is the website with all booking information including past participants video testimonials – https://www.songofawakening.com/full-moon-retreat\nInvestment:\nThe investment for the Retreat is all-inclusive of everything – quality accommodation\, high quality nourishing food\, all facilitation\, expert training\, special facilities\, resources\, sauna\, preparation group call and follow up Zoom call.\nEarly bird prices –\nShared room (4/5 beds) – $799\nTwin room – $999\nSingle cabin – $1277 \nThese early bird prices are available until February 28th\, then they will increase by $200\nSECURE YOUR PLACE WITH ONLY A DEPOSIT PAYMENT on the website – https://www.songofawakening.com/full-moon-retreat\nIt will be possible to book a 121 voice coaching (online) or an energy healing session (distance or in person) with Bryony to take place before or after the retreat\nBe in touch by phone or on messenger or whatsapp or book in a video conversation here – https://calendly.com/bryonyheartsong/free-consult\nTo fill in the participants questionnaire – click here -https://forms.gle/YF2B1UZQf9VLEmJ97\nCancellation Policy:\nIf Heartsong Healing needs to cancel the Retreat all payments are fully refunded. 100% deposit refund for cancellation 60+ days before retreat start date. 50% deposit refund for cancellation 30-59 days before retreat start date. 0% deposit refund for cancellation 0-29 days before retreat start date.
URL:https://thespiritguide.nz/oneoff-event/full-moon-full-voice-retreat-nz-may-2026/
LOCATION:Waihoanga Retreat Centre\, 32 Waihoanga Road\, Otaki Gorge\, 5582
CATEGORIES:Mind Body Spirit Practices,Retreat,Wellness
ATTACH;FMTTYPE=image/jpeg:https://thespiritguide.nz/wp-content/uploads/2026/02/611516589_1296664135840184_8773171336685076593_n.jpg
ORGANIZER;CN="Bryony - Heartsong Healing":MAILTO:bryony@heartsonghealing.life
END:VEVENT
BEGIN:VEVENT
DTSTART;TZID=Pacific/Auckland:20260403T080000
DTEND;TZID=Pacific/Auckland:20260403T093000
DTSTAMP:20260420T054649
CREATED:20260206T023638Z
LAST-MODIFIED:20260213T014132Z
UID:10000936-1775203200-1775208600@thespiritguide.nz
SUMMARY:APRIL FULL MOON SONGS AND SOUND CEREMONY (ZOOM)
DESCRIPTION:Join a powerful online gathering to celebrate and heal through the potent energies of the April Full Moon. This session features transformative conscious sound practices\, healing songs\, meditation\, and a ceremony for setting intentions for your highest potential. \nLive Online Session: Thursday\, April 3rd (NZDT). \nInvestment: $44 NZD (approx. £22 GBP). Concessions available upon request. \nHow to Join: Book via the link below. After payment\, please ensure the organizer has your email address to receive the Zoom link and preparation instructions. \nBooking Link: https://buy.stripe.com/6oE6sdfIa5kR78AfZS \nNOTE: This is Wednesday\, April 2nd at 8:00 PM UK time.
URL:https://thespiritguide.nz/oneoff-event/april-full-moon-songs-and-sound-ceremony-zoom/
LOCATION:ONLINE ZOOM
CATEGORIES:Mind Body Spirit Practices,Wellness
ATTACH;FMTTYPE=image/jpeg:https://thespiritguide.nz/wp-content/uploads/2026/02/full-moon.jpg
ORGANIZER;CN="Bryony - Heartsong Healing":MAILTO:bryony@heartsonghealing.life
END:VEVENT
BEGIN:VEVENT
DTSTART;TZID=Pacific/Auckland:20260403T183000
DTEND;TZID=Pacific/Auckland:20260403T210000
DTSTAMP:20260420T054649
CREATED:20251229T181116Z
LAST-MODIFIED:20260204T054713Z
UID:10000125-1775241000-1775250000@thespiritguide.nz
SUMMARY:APRIL FULL MOON SONG AND SOUND CEREMONY
DESCRIPTION:Book to come and join in a Powerful Online Sharing of Transformative Conscious Sound practices\, Healing Songs and Chants\, Meditation and Ritual to Celebrate\, Invoke and Heal through the energies of this potent FULL MOON \nThis time is a potent window provides us with the opportunity to opening into deeper possibilities in our lives.\nGathering together in this way can support you in making positive change in your life.\nThere will be a ceremony of setting intentions for this time and for our highest potential\nThe Live Online session takes place on THURSDAY April 3rd 8.00am-9:30am NZDT\nThis is WEDNESDAY April 2nd evening 8.00pm in UK \nYou can see times in other countries here – https://www.worldtimebuddy.com/\n$44 NZD – equivalent of £22 GBP\n(Feel free to contact me if this is outside your reach – some concessions available)\nBook here – https://buy.stripe.com/6oE6sdfIa5kR78AfZS\nor contact Bryony at Heartsong Healing for UK or NZ bank details \nPlease buy your place and send me your email address where I will send you the Zoom link and a detailed preparation email
URL:https://thespiritguide.nz/oneoff-event/april-full-moon-song-and-sound-ceremony/
LOCATION:Paraparaumu Memorial Hall Supper Room\, Corner of Aorangi and Tutanekai Streets\, Paraparaumu\, Paraparaumu\, 5032\, New Zealand
CATEGORIES:Cacao Ceremony,Energy Healing,Meditation,Mind Body Spirit Practices,Sound
ATTACH;FMTTYPE=image/jpeg:https://thespiritguide.nz/wp-content/uploads/2025/12/589739385_1265813788925219_7753716997820600661_n-2.jpg
ORGANIZER;CN="HeartSong Healing":MAILTO:bryony@heartsonghealing.life
END:VEVENT
END:VCALENDAR