BEGIN:VCALENDAR
VERSION:2.0
PRODID:-//The Spirit Guide - ECPv6.15.20//NONSGML v1.0//EN
CALSCALE:GREGORIAN
METHOD:PUBLISH
X-ORIGINAL-URL:https://thespiritguide.nz
X-WR-CALDESC:Events for The Spirit Guide
REFRESH-INTERVAL;VALUE=DURATION:PT1H
X-Robots-Tag:noindex
X-PUBLISHED-TTL:PT1H
BEGIN:VTIMEZONE
TZID:Pacific/Auckland
BEGIN:STANDARD
TZOFFSETFROM:+1300
TZOFFSETTO:+1200
TZNAME:NZST
DTSTART:20250405T140000
END:STANDARD
BEGIN:DAYLIGHT
TZOFFSETFROM:+1200
TZOFFSETTO:+1300
TZNAME:NZDT
DTSTART:20250927T140000
END:DAYLIGHT
BEGIN:STANDARD
TZOFFSETFROM:+1300
TZOFFSETTO:+1200
TZNAME:NZST
DTSTART:20260404T140000
END:STANDARD
BEGIN:DAYLIGHT
TZOFFSETFROM:+1200
TZOFFSETTO:+1300
TZNAME:NZDT
DTSTART:20260926T140000
END:DAYLIGHT
BEGIN:STANDARD
TZOFFSETFROM:+1300
TZOFFSETTO:+1200
TZNAME:NZST
DTSTART:20270403T140000
END:STANDARD
BEGIN:DAYLIGHT
TZOFFSETFROM:+1200
TZOFFSETTO:+1300
TZNAME:NZDT
DTSTART:20270925T140000
END:DAYLIGHT
END:VTIMEZONE
BEGIN:VEVENT
DTSTART;TZID=Pacific/Auckland:20260412T100000
DTEND;TZID=Pacific/Auckland:20260412T163000
DTSTAMP:20260420T125806
CREATED:20260204T062215Z
LAST-MODIFIED:20260204T062215Z
UID:10000938-1775988000-1776011400@thespiritguide.nz
SUMMARY:UNLEASH THE VOICES OF YOUR SUN AND MOON
DESCRIPTION:Book Soon for this special day workshop and explore and unleash the power of your Voice and Astrological Archetypes!!\nWe are blessed that Alignment Coach and Healer\, Clare Babbage is visiting the Wellington Region from Napier\, and collaborating with Voice Empowerment Coach and Healer\, Bryony Rogers from Heartsong Healing\, in this exciting\, unique offering.\nThis workshop is a specially designed\, transformative full day experience of Embodied Astrological Archetypes and Conscious Sound and Voice Practices.\nBOOK HERE – https://buy.stripe.com/aEU3g1gMecNj2SkbJI \nOn the date of the full moon\, the energies of the sun and the moon stand face to face — illuminating both our outer expression and our inner world.\nIn astrology\, the sun represents our fullest expression\, our vitality\, and the way we are here to shine. The moon reveals our emotional landscape\, our inner rhythms\, and often the fears that arise when we dare to live that full expression. Together\, they form a powerful dialogue between structure and flow\, logic and emotion\, masculine and feminine. \nIn this workshop\, Clare will guide you into an embodied exploration of your own sun and moon\, inviting you to feel these two archetypes within your body and notice where they support\, resist\, or balance each other.\nBryony will lead you into vocal practices that bring these energies into sound and voice — giving expression to what is often left unspoken. Through voice\, you’ll release what holds you back and discover new harmony between your inner and outer selves. \nThis full moon is the perfect moment to unleash the voices of your sun and moon — and to step more fully into clarity\, balance\, and authentic expression.\nThe timing of this workshop gives you a unique opportunity to tune into these planets and benefit from their placement in the collective astrology.\nThe workshop will begin with the opportunity to explore powerful\, enjoyable\, accessible Voice Practices which open\, align and strengthen your expression – and create physiological changes in your energy field. \nWe will then directly\, bodily experience the energies of each of the Celestial Bodies through Embodied Astrology\, guided by Clare.\nWe will integrate these energies\, through further Voice Practices\, including improvisation\, healing chants and songs.\nThese two modalities will be carefully interwoven in an enjoyable\, rich day’s workshop that will benefit all participants.\nThere will be guided space in the workshop to integrate the energetic shifts and discoveries of both the Voice Practices and the Astrology.\nThis special workshop takes place on Sunday April 12th\, 10am-4.30pm – we hope you can join us\nAt the Paekakariki Memorial Hall\, Paekakariki\nINVESTMENT:\nYour full price investment for this day is $222. Shared lunch. \nSome concessions are available –\nPayment by card here –\nFULL PRICE – $222 – https://buy.stripe.com/8wM17TbrUbJf9gI6pF\nLOW WAGED – $199 – https://buy.stripe.com/aEUg2N7bE14BfF6g0g\nUNWAGED – $177 – https://buy.stripe.com/dR6eYJ53wcNjboQeWd\nPlease contact us with any questions at all.\nBryony’s email – bryony@heartsonghealing.life
URL:https://thespiritguide.nz/oneoff-event/unleash-the-voices-of-your-sun-and-moon/
CATEGORIES:Mind Body Spirit Practices,Wellness
ATTACH;FMTTYPE=image/jpeg:https://thespiritguide.nz/wp-content/uploads/2026/02/546883594_10233551928572558_5862890929810056938_n.jpg
ORGANIZER;CN="Bryony - Heartsong Healing":MAILTO:bryony@heartsonghealing.life
END:VEVENT
END:VCALENDAR