BEGIN:VCALENDAR
VERSION:2.0
PRODID:-//The Spirit Guide - ECPv6.15.20//NONSGML v1.0//EN
CALSCALE:GREGORIAN
METHOD:PUBLISH
X-ORIGINAL-URL:https://thespiritguide.nz
X-WR-CALDESC:Events for The Spirit Guide
REFRESH-INTERVAL;VALUE=DURATION:PT1H
X-Robots-Tag:noindex
X-PUBLISHED-TTL:PT1H
BEGIN:VTIMEZONE
TZID:Pacific/Auckland
BEGIN:STANDARD
TZOFFSETFROM:+1300
TZOFFSETTO:+1200
TZNAME:NZST
DTSTART:20250405T140000
END:STANDARD
BEGIN:DAYLIGHT
TZOFFSETFROM:+1200
TZOFFSETTO:+1300
TZNAME:NZDT
DTSTART:20250927T140000
END:DAYLIGHT
BEGIN:STANDARD
TZOFFSETFROM:+1300
TZOFFSETTO:+1200
TZNAME:NZST
DTSTART:20260404T140000
END:STANDARD
BEGIN:DAYLIGHT
TZOFFSETFROM:+1200
TZOFFSETTO:+1300
TZNAME:NZDT
DTSTART:20260926T140000
END:DAYLIGHT
BEGIN:STANDARD
TZOFFSETFROM:+1300
TZOFFSETTO:+1200
TZNAME:NZST
DTSTART:20270403T140000
END:STANDARD
BEGIN:DAYLIGHT
TZOFFSETFROM:+1200
TZOFFSETTO:+1300
TZNAME:NZDT
DTSTART:20270925T140000
END:DAYLIGHT
END:VTIMEZONE
BEGIN:VEVENT
DTSTART;TZID=Pacific/Auckland:20260521T193000
DTEND;TZID=Pacific/Auckland:20260521T203000
DTSTAMP:20260420T195221
CREATED:20260127T053849Z
LAST-MODIFIED:20260127T053849Z
UID:10000922-1779391800-1779395400@thespiritguide.nz
SUMMARY:The Power of Gratitude
DESCRIPTION:Healing Your Life with the Power of Divine Love \nDiscover how gratitude can… \n• awaken you to the secret of love\n• unseal fountains of creativity\n• open your heart in difficult times\n• and so much more! \nJoin us for a spiritual discussion on gratitude\, based on this free\, short e-booklet\, The Power of Gratitude\, which offers inspiration\, stories\, tips\, and spiritual exercises for exploring a unique perspective on the power of gratitude. \nWe encourage you to download and explore this booklet beforehand\, and look forward to exchanging insights and experiences related to practicing gratitude in our lives! \nSpiritual conversations are a wonderful way for people to share stories\, ideas\, insights\, and personal experiences about a variety of topics that show how Spirit is working in your life. These discussions are relaxed\, welcoming\, and genuine\, and are for anyone who wants to explore their spiritual life more deeply with others in openhearted conversation. \nFor the Zoom link\n• email events@eckankar.nz\n• or join one of our Meetup groups (see homepage of eckankar.nz) – when you click ATTEND the zoom link will become visible. \nDownload the FREE eBooklet here:\nhttps://www.eckankar.org/wp-content/uploads/2021/12/The-Power-of-Gratitude_ebooklet.pdf
URL:https://thespiritguide.nz/oneoff-event/the-power-of-gratitude/
LOCATION:ONLINE ZOOM
CATEGORIES:Consciousness,Discussion Evening,Inner Peace,Personal Growth,Visualisation
ATTACH;FMTTYPE=image/jpeg:https://thespiritguide.nz/wp-content/uploads/2026/01/PofG_graphic.jpg
ORGANIZER;CN="Eckankar New Zealand":MAILTO:events@eckankar.nz
END:VEVENT
BEGIN:VEVENT
DTSTART;TZID=Pacific/Auckland:20260524T140000
DTEND;TZID=Pacific/Auckland:20260524T153000
DTSTAMP:20260420T195221
CREATED:20260308T230036Z
LAST-MODIFIED:20260308T230036Z
UID:10001043-1779631200-1779636600@thespiritguide.nz
SUMMARY:Animals Are Souls Too!
DESCRIPTION:Raise your spiritual IQ! \nCome to explore the divine connection between humans and animals. \nHave you ever \n• felt a heart-to-heart connection with an animal?\n• grieved the loss of a pet?\n• had an amazing spiritual experience with a pet or an animal in nature?\n• felt that animals can teach us lessons about living life? \nRegardless of what faith\, spiritual path\, or background you may have\, we are all Souls on a journey home. Animals too are in the process of growing spiritually. They can teach us many valuable lessons. \nCome to share the surprising\, funny\, amazing\, and life-changing ways animals have brought a spiritual lesson\, principle\, or jewel of unconditional love into your life. \nThis delightful discussion is a free event. \nVenue: Otaki Memorial Hall Meeting Room \nTo register contact Peter on 02108894934 or just drop in. We would love to see you! \nFor inspiring real-life stories about the many ways animals spiritually enrich our lives visit https://www.animalsaresoul.blog/.
URL:https://thespiritguide.nz/oneoff-event/animals-are-souls-too/
LOCATION:Otaki Memorial Hall\, Main Street\, Otaki\, 5512
CATEGORIES:Animal Communication,Consciousness,Discussion Evening,Dreams,Personal Growth
ATTACH;FMTTYPE=image/jpeg:https://thespiritguide.nz/wp-content/uploads/2026/03/13.Animals_Are_Souls.jpeg
ORGANIZER;CN="Eckankar New Zealand":MAILTO:events@eckankar.nz
END:VEVENT
END:VCALENDAR