BEGIN:VCALENDAR
VERSION:2.0
PRODID:-//The Spirit Guide - ECPv6.15.20//NONSGML v1.0//EN
CALSCALE:GREGORIAN
METHOD:PUBLISH
X-WR-CALNAME:The Spirit Guide
X-ORIGINAL-URL:https://thespiritguide.nz
X-WR-CALDESC:Events for The Spirit Guide
REFRESH-INTERVAL;VALUE=DURATION:PT1H
X-Robots-Tag:noindex
X-PUBLISHED-TTL:PT1H
BEGIN:VTIMEZONE
TZID:Pacific/Auckland
BEGIN:STANDARD
TZOFFSETFROM:+1300
TZOFFSETTO:+1200
TZNAME:NZST
DTSTART:20250405T140000
END:STANDARD
BEGIN:DAYLIGHT
TZOFFSETFROM:+1200
TZOFFSETTO:+1300
TZNAME:NZDT
DTSTART:20250927T140000
END:DAYLIGHT
BEGIN:STANDARD
TZOFFSETFROM:+1300
TZOFFSETTO:+1200
TZNAME:NZST
DTSTART:20260404T140000
END:STANDARD
BEGIN:DAYLIGHT
TZOFFSETFROM:+1200
TZOFFSETTO:+1300
TZNAME:NZDT
DTSTART:20260926T140000
END:DAYLIGHT
BEGIN:STANDARD
TZOFFSETFROM:+1300
TZOFFSETTO:+1200
TZNAME:NZST
DTSTART:20270403T140000
END:STANDARD
BEGIN:DAYLIGHT
TZOFFSETFROM:+1200
TZOFFSETTO:+1300
TZNAME:NZDT
DTSTART:20270925T140000
END:DAYLIGHT
END:VTIMEZONE
BEGIN:VEVENT
DTSTART;TZID=Pacific/Auckland:20260509T100000
DTEND;TZID=Pacific/Auckland:20260509T111500
DTSTAMP:20260423T181852
CREATED:20260422T231257Z
LAST-MODIFIED:20260422T231257Z
UID:10001539-1778320800-1778325300@thespiritguide.nz
SUMMARY:Awakening Qi with Yuan Qigong – Zoom Online (recorded)
DESCRIPTION:I invite you to join me for this 6-week ZOOM introductory course where we will explore the world of Yuan Qigong and how to work with it in a simple and practical way for health\, wellbeing\, and healing.\nYou can join live each week\, or move through the course in your own time\, with recordings available after every session.\nQigong practice naturally calms and clears the mind\, creating space for creativity\, focus\, and a more relaxed inner state where peace\, joy\, and vitality can arise.\nThe Yuan Qigong methods systematically improve the amount\, quality\, and flow of Qi throughout the body\, while gently opening the heart and supporting a deeper connection with your own inner awareness and innate wisdom.\nMy intention is that you will finish the course feeling more connected with your Qi\, your body\, and your True Self and have practical tools you can integrate into daily life. Regular practice can make a profound difference\, and this course offers a clear first step.\nYuan Qigong is easy to learn\, effective and safe\, and supports increased health\, happiness and wellbeing. \n𝗪𝗵𝗮𝘁 𝘆𝗼𝘂 𝘄𝗶𝗹𝗹 𝗹𝗲𝗮𝗿𝗻:\nThe first two methods of the Yuan Qigong system:\n        – Tian Yuan: Gathering Qi (life force energy)\n        – Di Yuan: Storing Qi\nYou will also learn two key supporting practices:\n       – Pulling Qi\n       – Dantian Breathing \n📅 Start Date: Saturday 9 May –\n🕘 Time: 10:00am – 11:15am (NZS\n🌻 Investment: $150nzd – fully supporting rate (75€)\n                           $120nzd – standard rate (60€)\n✅ Click here for the registration form\nhttps://forms.gle/KtAzMFeJwZjefXsw6 \n𝗔𝗯𝗼𝘂𝘁 𝗥𝗮𝗰𝗵𝗲𝗹 𝗠𝗮𝗴𝘂𝗶𝗿𝗲\nRachel began teaching Qigong in 2010. She first trained and taught Zhineng Qigong\, and now shares Yuan Qigong – a contemporary\, heart-focused Qigong system that supports health\, vitality\, emotional balance\, and inner development.\nShe has taught classes\, day workshops\, and longer retreats for over 15 years.\nRachel is also a qualified acupuncturist since 1995\, trained in the UK at the International College of Oriental Medicine\, and has been in private practice in both the UK and Aotearoa New Zealand.
URL:https://thespiritguide.nz/oneoff-event/awakening-qi-with-yuan-qigong-zoom-online-recorded/2026-05-09/
LOCATION:ONLINE ZOOM
CATEGORIES:Qigong
ATTACH;FMTTYPE=image/png:https://thespiritguide.nz/wp-content/uploads/2026/04/2-copy-2.png
END:VEVENT
BEGIN:VEVENT
DTSTART;TZID=Pacific/Auckland:20260516T100000
DTEND;TZID=Pacific/Auckland:20260516T111500
DTSTAMP:20260423T181852
CREATED:20260422T231257Z
LAST-MODIFIED:20260422T231257Z
UID:10001540-1778925600-1778930100@thespiritguide.nz
SUMMARY:Awakening Qi with Yuan Qigong – Zoom Online (recorded)
DESCRIPTION:I invite you to join me for this 6-week ZOOM introductory course where we will explore the world of Yuan Qigong and how to work with it in a simple and practical way for health\, wellbeing\, and healing.\nYou can join live each week\, or move through the course in your own time\, with recordings available after every session.\nQigong practice naturally calms and clears the mind\, creating space for creativity\, focus\, and a more relaxed inner state where peace\, joy\, and vitality can arise.\nThe Yuan Qigong methods systematically improve the amount\, quality\, and flow of Qi throughout the body\, while gently opening the heart and supporting a deeper connection with your own inner awareness and innate wisdom.\nMy intention is that you will finish the course feeling more connected with your Qi\, your body\, and your True Self and have practical tools you can integrate into daily life. Regular practice can make a profound difference\, and this course offers a clear first step.\nYuan Qigong is easy to learn\, effective and safe\, and supports increased health\, happiness and wellbeing. \n𝗪𝗵𝗮𝘁 𝘆𝗼𝘂 𝘄𝗶𝗹𝗹 𝗹𝗲𝗮𝗿𝗻:\nThe first two methods of the Yuan Qigong system:\n        – Tian Yuan: Gathering Qi (life force energy)\n        – Di Yuan: Storing Qi\nYou will also learn two key supporting practices:\n       – Pulling Qi\n       – Dantian Breathing \n📅 Start Date: Saturday 9 May –\n🕘 Time: 10:00am – 11:15am (NZS\n🌻 Investment: $150nzd – fully supporting rate (75€)\n                           $120nzd – standard rate (60€)\n✅ Click here for the registration form\nhttps://forms.gle/KtAzMFeJwZjefXsw6 \n𝗔𝗯𝗼𝘂𝘁 𝗥𝗮𝗰𝗵𝗲𝗹 𝗠𝗮𝗴𝘂𝗶𝗿𝗲\nRachel began teaching Qigong in 2010. She first trained and taught Zhineng Qigong\, and now shares Yuan Qigong – a contemporary\, heart-focused Qigong system that supports health\, vitality\, emotional balance\, and inner development.\nShe has taught classes\, day workshops\, and longer retreats for over 15 years.\nRachel is also a qualified acupuncturist since 1995\, trained in the UK at the International College of Oriental Medicine\, and has been in private practice in both the UK and Aotearoa New Zealand.
URL:https://thespiritguide.nz/oneoff-event/awakening-qi-with-yuan-qigong-zoom-online-recorded/2026-05-16/
LOCATION:ONLINE ZOOM
CATEGORIES:Qigong
ATTACH;FMTTYPE=image/png:https://thespiritguide.nz/wp-content/uploads/2026/04/2-copy-2.png
END:VEVENT
BEGIN:VEVENT
DTSTART;TZID=Pacific/Auckland:20260523T100000
DTEND;TZID=Pacific/Auckland:20260523T111500
DTSTAMP:20260423T181852
CREATED:20260422T231257Z
LAST-MODIFIED:20260422T231257Z
UID:10001541-1779530400-1779534900@thespiritguide.nz
SUMMARY:Awakening Qi with Yuan Qigong – Zoom Online (recorded)
DESCRIPTION:I invite you to join me for this 6-week ZOOM introductory course where we will explore the world of Yuan Qigong and how to work with it in a simple and practical way for health\, wellbeing\, and healing.\nYou can join live each week\, or move through the course in your own time\, with recordings available after every session.\nQigong practice naturally calms and clears the mind\, creating space for creativity\, focus\, and a more relaxed inner state where peace\, joy\, and vitality can arise.\nThe Yuan Qigong methods systematically improve the amount\, quality\, and flow of Qi throughout the body\, while gently opening the heart and supporting a deeper connection with your own inner awareness and innate wisdom.\nMy intention is that you will finish the course feeling more connected with your Qi\, your body\, and your True Self and have practical tools you can integrate into daily life. Regular practice can make a profound difference\, and this course offers a clear first step.\nYuan Qigong is easy to learn\, effective and safe\, and supports increased health\, happiness and wellbeing. \n𝗪𝗵𝗮𝘁 𝘆𝗼𝘂 𝘄𝗶𝗹𝗹 𝗹𝗲𝗮𝗿𝗻:\nThe first two methods of the Yuan Qigong system:\n        – Tian Yuan: Gathering Qi (life force energy)\n        – Di Yuan: Storing Qi\nYou will also learn two key supporting practices:\n       – Pulling Qi\n       – Dantian Breathing \n📅 Start Date: Saturday 9 May –\n🕘 Time: 10:00am – 11:15am (NZS\n🌻 Investment: $150nzd – fully supporting rate (75€)\n                           $120nzd – standard rate (60€)\n✅ Click here for the registration form\nhttps://forms.gle/KtAzMFeJwZjefXsw6 \n𝗔𝗯𝗼𝘂𝘁 𝗥𝗮𝗰𝗵𝗲𝗹 𝗠𝗮𝗴𝘂𝗶𝗿𝗲\nRachel began teaching Qigong in 2010. She first trained and taught Zhineng Qigong\, and now shares Yuan Qigong – a contemporary\, heart-focused Qigong system that supports health\, vitality\, emotional balance\, and inner development.\nShe has taught classes\, day workshops\, and longer retreats for over 15 years.\nRachel is also a qualified acupuncturist since 1995\, trained in the UK at the International College of Oriental Medicine\, and has been in private practice in both the UK and Aotearoa New Zealand.
URL:https://thespiritguide.nz/oneoff-event/awakening-qi-with-yuan-qigong-zoom-online-recorded/2026-05-23/
LOCATION:ONLINE ZOOM
CATEGORIES:Qigong
ATTACH;FMTTYPE=image/png:https://thespiritguide.nz/wp-content/uploads/2026/04/2-copy-2.png
END:VEVENT
BEGIN:VEVENT
DTSTART;TZID=Pacific/Auckland:20260530T100000
DTEND;TZID=Pacific/Auckland:20260530T111500
DTSTAMP:20260423T181852
CREATED:20260422T231257Z
LAST-MODIFIED:20260422T231257Z
UID:10001542-1780135200-1780139700@thespiritguide.nz
SUMMARY:Awakening Qi with Yuan Qigong – Zoom Online (recorded)
DESCRIPTION:I invite you to join me for this 6-week ZOOM introductory course where we will explore the world of Yuan Qigong and how to work with it in a simple and practical way for health\, wellbeing\, and healing.\nYou can join live each week\, or move through the course in your own time\, with recordings available after every session.\nQigong practice naturally calms and clears the mind\, creating space for creativity\, focus\, and a more relaxed inner state where peace\, joy\, and vitality can arise.\nThe Yuan Qigong methods systematically improve the amount\, quality\, and flow of Qi throughout the body\, while gently opening the heart and supporting a deeper connection with your own inner awareness and innate wisdom.\nMy intention is that you will finish the course feeling more connected with your Qi\, your body\, and your True Self and have practical tools you can integrate into daily life. Regular practice can make a profound difference\, and this course offers a clear first step.\nYuan Qigong is easy to learn\, effective and safe\, and supports increased health\, happiness and wellbeing. \n𝗪𝗵𝗮𝘁 𝘆𝗼𝘂 𝘄𝗶𝗹𝗹 𝗹𝗲𝗮𝗿𝗻:\nThe first two methods of the Yuan Qigong system:\n        – Tian Yuan: Gathering Qi (life force energy)\n        – Di Yuan: Storing Qi\nYou will also learn two key supporting practices:\n       – Pulling Qi\n       – Dantian Breathing \n📅 Start Date: Saturday 9 May –\n🕘 Time: 10:00am – 11:15am (NZS\n🌻 Investment: $150nzd – fully supporting rate (75€)\n                           $120nzd – standard rate (60€)\n✅ Click here for the registration form\nhttps://forms.gle/KtAzMFeJwZjefXsw6 \n𝗔𝗯𝗼𝘂𝘁 𝗥𝗮𝗰𝗵𝗲𝗹 𝗠𝗮𝗴𝘂𝗶𝗿𝗲\nRachel began teaching Qigong in 2010. She first trained and taught Zhineng Qigong\, and now shares Yuan Qigong – a contemporary\, heart-focused Qigong system that supports health\, vitality\, emotional balance\, and inner development.\nShe has taught classes\, day workshops\, and longer retreats for over 15 years.\nRachel is also a qualified acupuncturist since 1995\, trained in the UK at the International College of Oriental Medicine\, and has been in private practice in both the UK and Aotearoa New Zealand.
URL:https://thespiritguide.nz/oneoff-event/awakening-qi-with-yuan-qigong-zoom-online-recorded/2026-05-30/
LOCATION:ONLINE ZOOM
CATEGORIES:Qigong
ATTACH;FMTTYPE=image/png:https://thespiritguide.nz/wp-content/uploads/2026/04/2-copy-2.png
END:VEVENT
BEGIN:VEVENT
DTSTART;TZID=Pacific/Auckland:20260606T100000
DTEND;TZID=Pacific/Auckland:20260606T111500
DTSTAMP:20260423T181852
CREATED:20260422T231257Z
LAST-MODIFIED:20260422T231257Z
UID:10001543-1780740000-1780744500@thespiritguide.nz
SUMMARY:Awakening Qi with Yuan Qigong – Zoom Online (recorded)
DESCRIPTION:I invite you to join me for this 6-week ZOOM introductory course where we will explore the world of Yuan Qigong and how to work with it in a simple and practical way for health\, wellbeing\, and healing.\nYou can join live each week\, or move through the course in your own time\, with recordings available after every session.\nQigong practice naturally calms and clears the mind\, creating space for creativity\, focus\, and a more relaxed inner state where peace\, joy\, and vitality can arise.\nThe Yuan Qigong methods systematically improve the amount\, quality\, and flow of Qi throughout the body\, while gently opening the heart and supporting a deeper connection with your own inner awareness and innate wisdom.\nMy intention is that you will finish the course feeling more connected with your Qi\, your body\, and your True Self and have practical tools you can integrate into daily life. Regular practice can make a profound difference\, and this course offers a clear first step.\nYuan Qigong is easy to learn\, effective and safe\, and supports increased health\, happiness and wellbeing. \n𝗪𝗵𝗮𝘁 𝘆𝗼𝘂 𝘄𝗶𝗹𝗹 𝗹𝗲𝗮𝗿𝗻:\nThe first two methods of the Yuan Qigong system:\n        – Tian Yuan: Gathering Qi (life force energy)\n        – Di Yuan: Storing Qi\nYou will also learn two key supporting practices:\n       – Pulling Qi\n       – Dantian Breathing \n📅 Start Date: Saturday 9 May –\n🕘 Time: 10:00am – 11:15am (NZS\n🌻 Investment: $150nzd – fully supporting rate (75€)\n                           $120nzd – standard rate (60€)\n✅ Click here for the registration form\nhttps://forms.gle/KtAzMFeJwZjefXsw6 \n𝗔𝗯𝗼𝘂𝘁 𝗥𝗮𝗰𝗵𝗲𝗹 𝗠𝗮𝗴𝘂𝗶𝗿𝗲\nRachel began teaching Qigong in 2010. She first trained and taught Zhineng Qigong\, and now shares Yuan Qigong – a contemporary\, heart-focused Qigong system that supports health\, vitality\, emotional balance\, and inner development.\nShe has taught classes\, day workshops\, and longer retreats for over 15 years.\nRachel is also a qualified acupuncturist since 1995\, trained in the UK at the International College of Oriental Medicine\, and has been in private practice in both the UK and Aotearoa New Zealand.
URL:https://thespiritguide.nz/oneoff-event/awakening-qi-with-yuan-qigong-zoom-online-recorded/2026-06-06/
LOCATION:ONLINE ZOOM
CATEGORIES:Qigong
ATTACH;FMTTYPE=image/png:https://thespiritguide.nz/wp-content/uploads/2026/04/2-copy-2.png
END:VEVENT
BEGIN:VEVENT
DTSTART;TZID=Pacific/Auckland:20260613T100000
DTEND;TZID=Pacific/Auckland:20260613T111500
DTSTAMP:20260423T181852
CREATED:20260422T231257Z
LAST-MODIFIED:20260422T231257Z
UID:10001544-1781344800-1781349300@thespiritguide.nz
SUMMARY:Awakening Qi with Yuan Qigong – Zoom Online (recorded)
DESCRIPTION:I invite you to join me for this 6-week ZOOM introductory course where we will explore the world of Yuan Qigong and how to work with it in a simple and practical way for health\, wellbeing\, and healing.\nYou can join live each week\, or move through the course in your own time\, with recordings available after every session.\nQigong practice naturally calms and clears the mind\, creating space for creativity\, focus\, and a more relaxed inner state where peace\, joy\, and vitality can arise.\nThe Yuan Qigong methods systematically improve the amount\, quality\, and flow of Qi throughout the body\, while gently opening the heart and supporting a deeper connection with your own inner awareness and innate wisdom.\nMy intention is that you will finish the course feeling more connected with your Qi\, your body\, and your True Self and have practical tools you can integrate into daily life. Regular practice can make a profound difference\, and this course offers a clear first step.\nYuan Qigong is easy to learn\, effective and safe\, and supports increased health\, happiness and wellbeing. \n𝗪𝗵𝗮𝘁 𝘆𝗼𝘂 𝘄𝗶𝗹𝗹 𝗹𝗲𝗮𝗿𝗻:\nThe first two methods of the Yuan Qigong system:\n        – Tian Yuan: Gathering Qi (life force energy)\n        – Di Yuan: Storing Qi\nYou will also learn two key supporting practices:\n       – Pulling Qi\n       – Dantian Breathing \n📅 Start Date: Saturday 9 May –\n🕘 Time: 10:00am – 11:15am (NZS\n🌻 Investment: $150nzd – fully supporting rate (75€)\n                           $120nzd – standard rate (60€)\n✅ Click here for the registration form\nhttps://forms.gle/KtAzMFeJwZjefXsw6 \n𝗔𝗯𝗼𝘂𝘁 𝗥𝗮𝗰𝗵𝗲𝗹 𝗠𝗮𝗴𝘂𝗶𝗿𝗲\nRachel began teaching Qigong in 2010. She first trained and taught Zhineng Qigong\, and now shares Yuan Qigong – a contemporary\, heart-focused Qigong system that supports health\, vitality\, emotional balance\, and inner development.\nShe has taught classes\, day workshops\, and longer retreats for over 15 years.\nRachel is also a qualified acupuncturist since 1995\, trained in the UK at the International College of Oriental Medicine\, and has been in private practice in both the UK and Aotearoa New Zealand.
URL:https://thespiritguide.nz/oneoff-event/awakening-qi-with-yuan-qigong-zoom-online-recorded/2026-06-13/
LOCATION:ONLINE ZOOM
CATEGORIES:Qigong
ATTACH;FMTTYPE=image/png:https://thespiritguide.nz/wp-content/uploads/2026/04/2-copy-2.png
END:VEVENT
END:VCALENDAR