BEGIN:VCALENDAR
VERSION:2.0
PRODID:-//The Spirit Guide - ECPv6.15.20//NONSGML v1.0//EN
CALSCALE:GREGORIAN
METHOD:PUBLISH
X-ORIGINAL-URL:https://thespiritguide.nz
X-WR-CALDESC:Events for The Spirit Guide
REFRESH-INTERVAL;VALUE=DURATION:PT1H
X-Robots-Tag:noindex
X-PUBLISHED-TTL:PT1H
BEGIN:VTIMEZONE
TZID:Pacific/Auckland
BEGIN:STANDARD
TZOFFSETFROM:+1300
TZOFFSETTO:+1200
TZNAME:NZST
DTSTART:20250405T140000
END:STANDARD
BEGIN:DAYLIGHT
TZOFFSETFROM:+1200
TZOFFSETTO:+1300
TZNAME:NZDT
DTSTART:20250927T140000
END:DAYLIGHT
BEGIN:STANDARD
TZOFFSETFROM:+1300
TZOFFSETTO:+1200
TZNAME:NZST
DTSTART:20260404T140000
END:STANDARD
BEGIN:DAYLIGHT
TZOFFSETFROM:+1200
TZOFFSETTO:+1300
TZNAME:NZDT
DTSTART:20260926T140000
END:DAYLIGHT
BEGIN:STANDARD
TZOFFSETFROM:+1300
TZOFFSETTO:+1200
TZNAME:NZST
DTSTART:20270403T140000
END:STANDARD
BEGIN:DAYLIGHT
TZOFFSETFROM:+1200
TZOFFSETTO:+1300
TZNAME:NZDT
DTSTART:20270925T140000
END:DAYLIGHT
END:VTIMEZONE
BEGIN:VEVENT
DTSTART;TZID=Pacific/Auckland:20260416T193000
DTEND;TZID=Pacific/Auckland:20260416T203000
DTSTAMP:20260420T051809
CREATED:20260127T053909Z
LAST-MODIFIED:20260127T053909Z
UID:10000921-1776367800-1776371400@thespiritguide.nz
SUMMARY:Divine Guidance – how to align your inner compass with the Highest!
DESCRIPTION:Special ways to recognize divine help in daily life. \nDiscover how listening to your inner guidance can \n• bring answers on how to navigate your days\,\n• give you confidence in your own spiritual compass\, and\n• inspire you to self-mastery! \nJoin us for a spiritual discussion based on this free short e-booklet Divine Guidance which offers inspiration\, stories\, tips\, and spiritual exercises to help you strengthen your inner link with Divine Spirit. \nWe encourage you to download and explore this booklet beforehand\, and look forward to exchanging insights and experiences related to following inner guidance in our lives! \nSpiritual conversations are a wonderful way for people to share stories\, ideas\, insights\, and personal experiences about a variety of topics that show how Spirit is working in your life. These discussions are relaxed\, welcoming\, and genuine\, and are for anyone who wants to explore their spiritual life more deeply with others in openhearted conversation. \nFor the Zoom link\n• email events@eckankar.nz\n• or join one of our Meetup groups (see homepage of eckankar.nz) – when you click ATTEND the zoom link will become visible. \nDownload FREE eBooklet here:\nhttps://www.eckankar.org/wp-content/uploads/2022/04/Divine-Guidance_eBooklet.pdf
URL:https://thespiritguide.nz/oneoff-event/divine-guidance-how-to-align-your-inner-compass-with-the-highest/
LOCATION:ONLINE ZOOM
CATEGORIES:Consciousness,Discussion Evening,Personal Growth,Sound
ATTACH;FMTTYPE=image/jpeg:https://thespiritguide.nz/wp-content/uploads/2026/01/Divine_Guidance.jpeg
ORGANIZER;CN="Eckankar New Zealand":MAILTO:events@eckankar.nz
END:VEVENT
BEGIN:VEVENT
DTSTART;TZID=Pacific/Auckland:20260403T080000
DTEND;TZID=Pacific/Auckland:20260403T093000
DTSTAMP:20260420T051809
CREATED:20260206T023638Z
LAST-MODIFIED:20260213T014132Z
UID:10000936-1775203200-1775208600@thespiritguide.nz
SUMMARY:APRIL FULL MOON SONGS AND SOUND CEREMONY (ZOOM)
DESCRIPTION:Join a powerful online gathering to celebrate and heal through the potent energies of the April Full Moon. This session features transformative conscious sound practices\, healing songs\, meditation\, and a ceremony for setting intentions for your highest potential. \nLive Online Session: Thursday\, April 3rd (NZDT). \nInvestment: $44 NZD (approx. £22 GBP). Concessions available upon request. \nHow to Join: Book via the link below. After payment\, please ensure the organizer has your email address to receive the Zoom link and preparation instructions. \nBooking Link: https://buy.stripe.com/6oE6sdfIa5kR78AfZS \nNOTE: This is Wednesday\, April 2nd at 8:00 PM UK time.
URL:https://thespiritguide.nz/oneoff-event/april-full-moon-songs-and-sound-ceremony-zoom/
LOCATION:ONLINE ZOOM
CATEGORIES:Mind Body Spirit Practices,Wellness
ATTACH;FMTTYPE=image/jpeg:https://thespiritguide.nz/wp-content/uploads/2026/02/full-moon.jpg
ORGANIZER;CN="Bryony - Heartsong Healing":MAILTO:bryony@heartsonghealing.life
END:VEVENT
BEGIN:VEVENT
DTSTART;TZID=Pacific/Auckland:20260228T083000
DTEND;TZID=Pacific/Auckland:20260404T100000
DTSTAMP:20260420T051809
CREATED:20260205T034512Z
LAST-MODIFIED:20260205T034512Z
UID:10000946-1772267400-1775296800@thespiritguide.nz
SUMMARY:HEARTSONG VOICE EMPOWERMENT IMMERSION FEB/APR- 5 wks
DESCRIPTION:* Are you looking for a new\, more embodied\, empowered experience of your voice?\n* Do you want to speak up or sing out\, and need a boost in your confidence and skill?\n* Do you want to learn how to use your voice to combat stress\, anxiety or depression?\nJoin for a weekly Online deep dive into powerful Heartsong Healing voice exercises\, conscious sounding\, singing\, chanting and meditation: a healing ONLINE WEEKLY HEARTSONG VOICE IMMERSION Starting in the energy of the Full Moon on February 28th 8.30am NZDT\nAt a time that works especially well for NZ\, Australian\, European \, British and American audiences. Every session is fully recorded so all replays available wherever you are located. \nThis work is transformative for your well-being\, your mood\, your direction and focus in your life\, your ability to manifest your dreams. It is healing and can transform your life\, work or business and relationships in a number of ways.\nA recent client describes –\nWorking with specific techniques in the sessions and then practicing during the week has made such a difference in my voice and confidence\, I can’t believe it. Not only that\, Bryony has introduced me to working with sound in an energetic way to clear and shift my energy\, raise my energetic vibration and manifest my best life!\nJen Grange\, Lakeland Wellbeing\nYou can see all the details including the testimonial videos and Payment Plans on the website – https://www.songofawakening.com/online-courses\nThis 5 week Immersion is a powerful and therapeutic experience.\nThe course comprises five 90 minute live online sessions.\nApart from the first call\, the live online calls will be on Saturday morning 8.30am-10am NZDT\, (from 7.30pm-9pm the night before in the UK).\nThese are the dates –\nNZ / AUS – SATURDAY February 28th\,\n(UK / EU / USA – Friday 17th)\,\nNZ / AUS – SATURDAY March 7th\,\n(UK / EU / USA – Friday March 6th)\,\nBreak for March 13th/14th\nNZ / AUS – SATURDAY March 21st\,\n(UK / EU / USA – Friday March 20th)\,\nNZ / AUS – SATURDAY March 27th\n(UK / EU / USA – Friday March 26th)\,\nNZ / AUS – SATURDAY April 4th\n(UK / EU / USA – Friday April 3rd)\, \nWherever you live\, you are welcome to join\, and this course will boost your mood\, energy\, mental health and general well-being.\nThis course will support you in discovering\, strengthening and learning to love your voice\, and the healing and supportive power it can hold for you. It will increase your well-being\, and impact your speaking voice and your general expressiveness as well as your singing voice. We will weave ritual and meditation into the opening of our voices and the deepening of the magic in our lives.\nThere will be no need to sound or sing in front of anyone else\, to improve the sound quality we so this with the computer mute and you just sound and sing along with my voice. \nThis course will begin on February 28th and run until April 4th at 8.30am NZ time. See your time for other time zones here – https://www.worldtimebuddy.com/\nThis powerful live online course will be followed with practice materials and resources to continue and develop your practice after the course.\nInvestment is $777 NZD which can be paid BY CREDIT / DEBIT CARD here – https://buy.stripe.com/14A6oGaow61D8OY8Wuew81U\nYou can see all the details including the testimonial videos and Payment Plans on the website – https://www.songofawakening.com/online-courses\nIn British pounds the value is about £333 and you have the option to pay in pounds Sterling\, eiether by card or I can send you my British bank details. Amercian dollars is about $440\, USD you can pa y in USD on the stripe card link
URL:https://thespiritguide.nz/oneoff-event/heartsong-voice-empowerment-immersion-feb-apr-5-wks/
LOCATION:ONLINE ZOOM
ATTACH;FMTTYPE=image/png:https://thespiritguide.nz/wp-content/uploads/2026/02/Immersion-2-scaled.png
ORGANIZER;CN="Bryony - Heartsong Healing":MAILTO:bryony@heartsonghealing.life
END:VEVENT
END:VCALENDAR